BEGIN:VCALENDAR
VERSION:2.0
PRODID:-//Library Market//iCal Export//EN
BEGIN:VEVENT
SUMMARY:Special Called Meeting
UID:5020
DTSTAMP:20260421T183600Z
DTSTART:20260414T190000Z
DTEND:20260414T204500Z
LOCATION:Spencer County Public Library, 168 Taylorsville Rd, Taylorsville,
  KY 40071, United States
ROOM: Studio
DESCRIPTION:
URL:https://www.scplky.org/event/special-called-meeting-5020
END:VEVENT
END:VCALENDAR
