BEGIN:VCALENDAR
VERSION:2.0
PRODID:-//Library Market//iCal Export//EN
BEGIN:VEVENT
SUMMARY:Jr. Minecraft
UID:5191
DTSTAMP:20260421T162200Z
DTSTART:20260601T203000Z
DTEND:20260601T220000Z
LOCATION:Spencer County Public Library, 168 Taylorsville Rd, Taylorsville,
  KY 40071, United States
ROOM: Community Room
DESCRIPTION:For Grades: K-5th or ages 6-12Everyone’s favorite game-theme
 d event is being brought back for another year! Start your own homestead i
 n Minecraft. Explore gardening, farming, and more!
URL:https://www.scplky.org/event/jr-tbd-5191
END:VEVENT
END:VCALENDAR
