BEGIN:VCALENDAR
VERSION:2.0
PRODID:-//Library Market//iCal Export//EN
BEGIN:VEVENT
SUMMARY:Jr. Jurassic Park
UID:5193
DTSTAMP:20260421T162200Z
DTSTART:20260615T203000Z
DTEND:20260615T220000Z
LOCATION:Spencer County Public Library, 168 Taylorsville Rd, Taylorsville,
  KY 40071, United States
ROOM: Community Room
DESCRIPTION:For grades K-5th or ages 6-12Fans of Jurassic Park are invited
  to dig a little deeper into the world of dinosaurs at this roaring event 
 for elementary-aged students!
URL:https://www.scplky.org/event/jr-tbd-5193
END:VEVENT
END:VCALENDAR
