BEGIN:VCALENDAR
VERSION:2.0
PRODID:-//Library Market//iCal Export//EN
BEGIN:VEVENT
SUMMARY:Jr. American Girl
UID:5194
DTSTAMP:20260421T183600Z
DTSTART:20260622T203000Z
DTEND:20260622T220000Z
LOCATION:Spencer County Public Library, 168 Taylorsville Rd, Taylorsville,
  KY 40071, United States
ROOM: Community Room
DESCRIPTION:For grades K-5th or ages 6-12Celebrate 40 years of American Gi
 rl Dolls at the library! Bring your own doll (any doll!), learn about what
  makes dolls special, have a party, and spend time with others who like pl
 aying with dolls too!
URL:https://www.scplky.org/event/jr-american-girl-5194
END:VEVENT
END:VCALENDAR
