BEGIN:VCALENDAR
VERSION:2.0
PRODID:-//Library Market//iCal Export//EN
BEGIN:VEVENT
SUMMARY:Jr. Magic Treehouse
UID:5195
DTSTAMP:20260421T200700Z
DTSTART:20260629T203000Z
DTEND:20260629T220000Z
LOCATION:Spencer County Public Library, 168 Taylorsville Rd, Taylorsville,
  KY 40071, United States
ROOM: Community Room
DESCRIPTION:For grades K-5th or ages 6-12Let’s take a trip to different 
 time periods to learn about other cultures, experiences, and more based on
  a favorite book series!
URL:https://www.scplky.org/event/jr-tbd-5195
END:VEVENT
END:VCALENDAR
