BEGIN:VCALENDAR
VERSION:2.0
PRODID:-//Library Market//iCal Export//EN
BEGIN:VEVENT
SUMMARY:Hui Kaululehua
UID:5201
DTSTAMP:20260421T200700Z
DTSTART:20260630T143000Z
DTEND:20260630T153000Z
LOCATION:Spencer County Public Library, 168 Taylorsville Rd, Taylorsville,
  KY 40071, United States
ROOM: Community Room
DESCRIPTION:Hui Kaululehua is a group focused on the practice of Hawaiian 
 Hula. They are located in Louisville, Kentucky, offering dance and music c
 lasses for both children and adults. Their passion lies in learning, prese
 rving, protecting, and perpetuating Hawaiian culture. Come to the library
  to learn about Hawaiian Hula, the culture, the dance, and the music!
URL:https://www.scplky.org/event/hui-kaululehua-5201
END:VEVENT
END:VCALENDAR
