BEGIN:VCALENDAR
VERSION:2.0
PRODID:-//Library Market//iCal Export//EN
BEGIN:VEVENT
SUMMARY:Teen : Deadly Gardens
UID:5202
DTSTAMP:20260421T165300Z
DTSTART:20260602T193000Z
DTEND:20260602T210000Z
LOCATION:Spencer County Public Library, 168 Taylorsville Rd, Taylorsville,
  KY 40071, United States
ROOM: Community Room
DESCRIPTION:For Teens in grades 6th-12thAre you interested in deadly flowe
 rs or apothocary?Teens will be able to learn about poisionous flowers, cre
 ate spooky crafts, and explore about mystical things in nature!
URL:https://www.scplky.org/event/summer-teen-tuesdays-5202
END:VEVENT
END:VCALENDAR
