BEGIN:VCALENDAR
VERSION:2.0
PRODID:-//Library Market//iCal Export//EN
BEGIN:VEVENT
SUMMARY:Teen : The Secret World of the Library
UID:5203
DTSTAMP:20260421T150000Z
DTSTART:20260609T193000Z
DTEND:20260609T210000Z
LOCATION:Spencer County Public Library, 168 Taylorsville Rd, Taylorsville,
  KY 40071, United States
ROOM: Community Room
DESCRIPTION:For Teens in grades 6th-12thExplore the magical world of Miyaz
 aki at the library! Fans can enjoy nature crafts themed around Japan’s b
 eloved Studio.
URL:https://www.scplky.org/event/summer-teen-tuesdays-5203
END:VEVENT
END:VCALENDAR
