BEGIN:VCALENDAR
VERSION:2.0
PRODID:-//Library Market//iCal Export//EN
BEGIN:VEVENT
SUMMARY:Teen : Book Bedazzling
UID:5204
DTSTAMP:20260421T163400Z
DTSTART:20260616T193000Z
DTEND:20260616T210000Z
LOCATION:Spencer County Public Library, 168 Taylorsville Rd, Taylorsville,
  KY 40071, United States
ROOM: Community Room
DESCRIPTION:For Teens in grades 6th-12thTeens will be able to bedazzle a b
 ook cover! Books will be provided but feel free to bring your own!
URL:https://www.scplky.org/event/summer-teen-tuesdays-5204
END:VEVENT
END:VCALENDAR
