BEGIN:VCALENDAR
VERSION:2.0
PRODID:-//Library Market//iCal Export//EN
BEGIN:VEVENT
SUMMARY:Teen : Felt Crafts
UID:5205
DTSTAMP:20260421T165300Z
DTSTART:20260623T193000Z
DTEND:20260623T210000Z
LOCATION:Spencer County Public Library, 168 Taylorsville Rd, Taylorsville,
  KY 40071, United States
ROOM: Community Room
DESCRIPTION:For Teens in grades 6th-12thMake a little critter! Crown! Name
  Banner! Bookmark! Whatever you can think of for this felting night!
URL:https://www.scplky.org/event/summer-teen-tuesdays-5205
END:VEVENT
END:VCALENDAR
