BEGIN:VCALENDAR
VERSION:2.0
PRODID:-//Library Market//iCal Export//EN
BEGIN:VEVENT
SUMMARY:Felix Grundy Stidger Historical Preservation Foundation Meeting
UID:5387
DTSTAMP:20260421T183600Z
DTSTART:20260414T150000Z
DTEND:20260414T160000Z
LOCATION:Spencer County Public Library, 168 Taylorsville Rd., Taylorsville
 , KY 40071, United States
ROOM: Quiet Study
DESCRIPTION:
URL:https://www.scplky.org/event/felix-grundy-stidger-historical-preservat
 ion-foundation-meeting-5387
END:VEVENT
END:VCALENDAR
