BEGIN:VCALENDAR
VERSION:2.0
PRODID:-//Library Market//iCal Export//EN
BEGIN:VEVENT
SUMMARY:Games
UID:5389
DTSTAMP:20260421T200700Z
DTSTART:20260505T213000Z
DTEND:20260506T000000Z
LOCATION:Spencer County Public Library, 168 Taylorsville Rd., Taylorsville
 , KY 40071, United States
ROOM: Community Room A (smaller)
DESCRIPTION:Mahjong night
URL:https://www.scplky.org/event/games-5389
END:VEVENT
END:VCALENDAR
