BEGIN:VCALENDAR
VERSION:2.0
PRODID:-//Library Market//iCal Export//EN
BEGIN:VEVENT
SUMMARY:Taylorsville Main Street Meeting
UID:5394
DTSTAMP:20260421T165300Z
DTSTART:20260604T213000Z
DTEND:20260604T223000Z
LOCATION:Spencer County Public Library, 168 Taylorsville Rd., Taylorsville
 , KY 40071, United States
ROOM: Community Room B (larger)
DESCRIPTION:
URL:https://www.scplky.org/event/taylorsville-main-street-meeting-5394
END:VEVENT
END:VCALENDAR
