BEGIN:VCALENDAR
VERSION:2.0
PRODID:-//Library Market//iCal Export//EN
BEGIN:VEVENT
SUMMARY:JCTC Adult Education
UID:5401
DTSTAMP:20260421T200700Z
DTSTART:20260513T140000Z
DTEND:20260513T160000Z
LOCATION:Spencer County Public Library, 168 Taylorsville Rd, Taylorsville,
  KY 40071, United States
ROOM: Studio
DESCRIPTION:A representative from Jefferson Community &amp; Technical Coll
 ege’s GED programanswers questions and helps with the GED process. Conta
 ct Cristina Marsh at502-213-5212 or cristina.marsh@kctcs.edu. For direct c
 ontact with SCPL&#039;s representative, contact Chad Hutchison at chad.hut
 chison@kctcs.edu. 
URL:https://www.scplky.org/event/copy-jctc-adult-education-5401
END:VEVENT
END:VCALENDAR
