BEGIN:VCALENDAR
VERSION:2.0
PRODID:-//Library Market//iCal Export//EN
BEGIN:VEVENT
SUMMARY:SaturPLAY : Spa Day!
UID:5403
DTSTAMP:20260421T202800Z
DTSTART:20260509T143000Z
DTEND:20260509T153000Z
LOCATION:Spencer County Public Library, 168 Taylorsville Rd, Taylorsville,
  KY 40071, United States
ROOM: Community Room
DESCRIPTION:For FamiliesMay is Mental Health Awareness Month! Families are
  invited to a relaxing self care day with activities surrounding a pretend
  spa!
URL:https://www.scplky.org/event/saturplay-spa-day-5403
END:VEVENT
END:VCALENDAR
