BEGIN:VCALENDAR
VERSION:2.0
PRODID:-//Library Market//iCal Export//EN
BEGIN:VEVENT
SUMMARY:Spring Collage
UID:5404
DTSTAMP:20260421T200700Z
DTSTART:20260507T193000Z
DTEND:20260507T203000Z
LOCATION:Spencer County Public Library, 168 Taylorsville Rd, Taylorsville,
  KY 40071, United States
ROOM: Studio
DESCRIPTION:Flex your creative muscles for a relaxing afternoon of collagi
 ng!
URL:https://www.scplky.org/event/spring-collage-5404
END:VEVENT
END:VCALENDAR
