BEGIN:VCALENDAR
VERSION:2.0
PRODID:-//Library Market//iCal Export//EN
BEGIN:VEVENT
SUMMARY:Board Game Group - Mantis
UID:5406
DTSTAMP:20260421T200700Z
DTSTART:20260514T193000Z
DTEND:20260514T203000Z
LOCATION:Spencer County Public Library, 168 Taylorsville Rd, Taylorsville,
  KY 40071, United States
ROOM: Studio
DESCRIPTION:Join us to play the colorfully cutthroat card game Mantis!
URL:https://www.scplky.org/event/board-game-group-mantis-5406
END:VEVENT
END:VCALENDAR
