BEGIN:VCALENDAR
VERSION:2.0
PRODID:-//Library Market//iCal Export//EN
BEGIN:VEVENT
SUMMARY:Board Game Group - Mantis
UID:5407
DTSTAMP:20260421T200700Z
DTSTART:20260514T220000Z
DTEND:20260514T230000Z
LOCATION:Spencer County Public Library, 168 Taylorsville Rd, Taylorsville,
  KY 40071, United States
ROOM: Studio
DESCRIPTION:Join us to play the colorfully cutthroat card game Mantis!
URL:https://www.scplky.org/event/board-game-group-mantis-5407
END:VEVENT
END:VCALENDAR
