BEGIN:VCALENDAR
VERSION:2.0
PRODID:-//Library Market//iCal Export//EN
BEGIN:VEVENT
SUMMARY:Pressed Flower Votives
UID:5409
DTSTAMP:20260421T183600Z
DTSTART:20260528T220000Z
DTEND:20260528T230000Z
LOCATION:Spencer County Public Library, 168 Taylorsville Rd, Taylorsville,
  KY 40071, United States
ROOM: Community Room
DESCRIPTION:Join us to make an adorable floral candleholder just in time f
 or spring!
URL:https://www.scplky.org/event/copy-pressed-flower-votives-5409
END:VEVENT
END:VCALENDAR
