BEGIN:VCALENDAR
VERSION:2.0
PRODID:-//Library Market//iCal Export//EN
BEGIN:VEVENT
SUMMARY:ELC Outreach
UID:5412
DTSTAMP:20260421T185400Z
DTSTART:20260429T130000Z
DTEND:20260429T184500Z
LOCATION:Early Learning Center, 206 Reasor Avenur, Taylorsville, KY 40071,
  United States
ROOM: ELC Outreach
DESCRIPTION:Talking about summer reading at the Early Learning Center
URL:https://www.scplky.org/event/elc-outreach-5412
END:VEVENT
END:VCALENDAR
