BEGIN:VCALENDAR
VERSION:2.0
PRODID:-//Library Market//iCal Export//EN
BEGIN:VEVENT
SUMMARY:Mahjong
UID:5414
DTSTAMP:20260421T200700Z
DTSTART:20260519T213000Z
DTEND:20260520T000000Z
LOCATION:Spencer County Public Library, 168 Taylorsville Rd., Taylorsville
 , KY 40071, United States
ROOM: Community Room A (smaller)
DESCRIPTION:
URL:https://www.scplky.org/event/mahjong-5414
END:VEVENT
END:VCALENDAR
