BEGIN:VCALENDAR
VERSION:2.0
PRODID:-//Library Market//iCal Export//EN
BEGIN:VEVENT
SUMMARY:Dulcimer Group
UID:5419
DTSTAMP:20260423T221500Z
DTSTART:20260520T153000Z
DTEND:20260520T170000Z
LOCATION:Spencer County Public Library, 168 Taylorsville Rd., Taylorsville
 , KY 40071, United States
ROOM: Quiet Study
DESCRIPTION:This free program is open to players of all levels. The dulcim
 er group has a few extra instruments that you can learn on so no need to b
 ring your own instrument. Ages 18 and up. 
URL:https://www.scplky.org/event/dulcimer-group-5419
END:VEVENT
END:VCALENDAR
